BEGIN:VCALENDAR
VERSION:2.0
PRODID:-calendario.francos.pt
NAME:IEB Francos - Calendário
X-WR-CALNAME:IEB Francos - Calendário
TIMEZONE-ID:Europe/Lisbon
X-WR-TIMEZONE:Europe/Lisbon
BEGIN:VEVENT
UID:3b424f89-7d06-4d67-bfcc-141bfa8bc466
SEQUENCE:0
DTSTAMP:20260426T042701
DTSTART:20240512T133000
DTEND:20240512T160000
SUMMARY:Almoço Comunitário
LOCATION:Rua de Francos 445\, 4250-217 Porto\, Portugal
DESCRIPTION:Inscrição Necessária
END:VEVENT
BEGIN:VEVENT
UID:eb65f6ee-f5f9-407f-8330-842ad1c01429
SEQUENCE:0
DTSTAMP:20260426T042701
DTSTART:20240530T133000
DTEND:20240530T160000
SUMMARY:UF - Pic-Nic
ORGANIZER;CN="União Feminina":mailto:igrejabaptistafrancos@gmail.com
END:VEVENT
BEGIN:VEVENT
UID:ed991150-2c27-44ee-9d87-fd0c43518edd
SEQUENCE:0
DTSTAMP:20260426T042701
DTSTART:20240616T150000
DTEND:20240616T180000
SUMMARY:Destreza Biblica do Semestre
ORGANIZER;CN="Escola Bíblica":mailto:joseanne.cbmg.couto@gmail.com
END:VEVENT
BEGIN:VEVENT
UID:73e0c7be-0423-4772-911f-9adcb6230714
SEQUENCE:0
DTSTAMP:20260426T042701
DTSTART:20240602T133000
DTEND:20240602T163000
SUMMARY:Almoço Comunitário
DESCRIPTION:Inscrição Necessária
ORGANIZER;CN="União Feminina":mailto:igrejabaptistafrancos@gmail.com
END:VEVENT
BEGIN:VEVENT
UID:4ebd61d0-00c1-461d-b7ef-0a6ee4fc9904
SEQUENCE:0
DTSTAMP:20260426T042701
DTSTART;VALUE=DATE:20240622
DTEND;VALUE=DATE:20240622
X-MICROSOFT-CDO-ALLDAYEVENT:TRUE
X-MICROSOFT-MSNCALENDAR-ALLDAYEVENT:TRUE
SUMMARY:UF - Encontro Nacional do Departamento Feminino da CBP
ORGANIZER;CN="Convenção Baptista Portuguesa":mailto:convencao.b.portugue
 sa@gmail.com
END:VEVENT
BEGIN:VEVENT
UID:fefb13cf-b100-48f3-a2ef-e703da2dedf4
SEQUENCE:0
DTSTAMP:20260426T042701
DTSTART:20240908T133000
DTEND:20240908T163000
SUMMARY:Almoço Comunitário
DESCRIPTION:Inscrição Necessária
ORGANIZER;CN="União Feminina":mailto:igrejabaptistafrancos@gmail.com
END:VEVENT
BEGIN:VEVENT
UID:9252e3f1-5d07-470a-be1a-2db1719bad85
SEQUENCE:0
DTSTAMP:20260426T042701
DTSTART:20240419T190000
DTEND:20240421T160000
SUMMARY:UJ - Retiro de Jovens
DESCRIPTION:Inscrição Necessária
ORGANIZER;CN="União de Jovens":mailto:pedro.dgcouto@gmail.com
END:VEVENT
BEGIN:VEVENT
UID:bb0a6db2-fbf5-41c1-bf68-e63db826a97c
SEQUENCE:0
DTSTAMP:20260426T042701
DTSTART;VALUE=DATE:20240921
DTEND;VALUE=DATE:20240921
X-MICROSOFT-CDO-ALLDAYEVENT:TRUE
X-MICROSOFT-MSNCALENDAR-ALLDAYEVENT:TRUE
SUMMARY:Pedipaper
DESCRIPTION:
ORGANIZER;CN="Escola Bíblica":mailto:joseanne.cbmg.couto@gmail.com
END:VEVENT
BEGIN:VEVENT
UID:36eece71-addd-4c99-8d67-4ea219d0c492
SEQUENCE:0
DTSTAMP:20260426T042701
DTSTART;VALUE=DATE:20241019
DTEND;VALUE=DATE:20241019
X-MICROSOFT-CDO-ALLDAYEVENT:TRUE
X-MICROSOFT-MSNCALENDAR-ALLDAYEVENT:TRUE
SUMMARY:UF - Visita Fundação Lar Evangélico
LOCATION:Fundação Lar Evangélico
ORGANIZER;CN="União Feminina":mailto:igrejabaptistafrancos@gmail.com
END:VEVENT
BEGIN:VEVENT
UID:0c2d204c-7605-4329-840e-50a3aef8042e
SEQUENCE:0
DTSTAMP:20260426T042701
DTSTART;VALUE=DATE:20241031
DTEND;VALUE=DATE:20241031
X-MICROSOFT-CDO-ALLDAYEVENT:TRUE
X-MICROSOFT-MSNCALENDAR-ALLDAYEVENT:TRUE
SUMMARY:Dia da Reforma Protestante
END:VEVENT
BEGIN:VEVENT
UID:1c87d14f-7acc-4f51-8181-65fd0547de90
SEQUENCE:0
DTSTAMP:20260426T042701
DTSTART;VALUE=DATE:20241102
DTEND;VALUE=DATE:20241102
X-MICROSOFT-CDO-ALLDAYEVENT:TRUE
X-MICROSOFT-MSNCALENDAR-ALLDAYEVENT:TRUE
SUMMARY:UF - Encontro Regional do Departamento Feminino da CBP
DESCRIPTION:A definir entre dia 2 e dia 9
ORGANIZER;CN="Convenção Baptista Portuguesa":mailto:convencao.b.portugue
 sa@gmail.com
END:VEVENT
BEGIN:VEVENT
UID:c55b6396-ccbd-44ea-8179-e01c3d6a612e
SEQUENCE:0
DTSTAMP:20260426T042701
DTSTART;VALUE=DATE:20241208
DTEND;VALUE=DATE:20241208
X-MICROSOFT-CDO-ALLDAYEVENT:TRUE
X-MICROSOFT-MSNCALENDAR-ALLDAYEVENT:TRUE
SUMMARY:Destreza Bíblica do Semestre
ORGANIZER;CN="Escola Bíblica":mailto:joseanne.cmbg.couto@gmail.com
END:VEVENT
BEGIN:VEVENT
UID:86f5161b-92a0-460e-8c3c-50502992fd76
SEQUENCE:0
DTSTAMP:20260426T042701
DTSTART;VALUE=DATE:20241215
DTEND;VALUE=DATE:20241215
X-MICROSOFT-CDO-ALLDAYEVENT:TRUE
X-MICROSOFT-MSNCALENDAR-ALLDAYEVENT:TRUE
SUMMARY:Amigos da União Feminina
ORGANIZER;CN="União Feminina":mailto:igrejabaptistafrancos@gmail.com
END:VEVENT
BEGIN:VEVENT
UID:8384fc79-eb99-4c3b-8632-2f056b1837da
SEQUENCE:0
DTSTAMP:20260426T042701
DTSTART;VALUE=DATE:20241222
DTEND;VALUE=DATE:20241222
X-MICROSOFT-CDO-ALLDAYEVENT:TRUE
X-MICROSOFT-MSNCALENDAR-ALLDAYEVENT:TRUE
SUMMARY:Culto de Celebração do Nascimento de Jesus
LOCATION:Igreja Evangélica Baptista de Francos\, Rua do Lugarinho 6\, 425
 0-266 Porto\, Portugal
URL;VALUE=URI:https://us02web.zoom.us/j/83898415411?pwd=djVUbFQrRUJjQUN6Sz
 NUNnBISkZEUT09
END:VEVENT
BEGIN:VEVENT
UID:a5178676-035f-43f8-9ee4-151ec319f31a
SEQUENCE:0
DTSTAMP:20260426T042701
DTSTART:20241229T160000
DTEND:20241229T200000
SUMMARY:Culto de Ação de Graças
LOCATION:Igreja Evangélica Baptista de Francos\, Rua do Lugarinho 6\, 425
 0-266 Porto\, Portugal
DESCRIPTION:Culto de Ação de Graças pelos 50 anos da Igreja
URL;VALUE=URI:https://us02web.zoom.us/j/83898415411?pwd=djVUbFQrRUJjQUN6Sz
 NUNnBISkZEUT09
END:VEVENT
BEGIN:VEVENT
UID:f6634f63-abfc-447f-90d5-95850f36b830
SEQUENCE:0
DTSTAMP:20260426T042701
DTSTART:20240421T160000
DTEND:20240421T190000
SUMMARY:Filme
LOCATION:Igreja Evangélica Baptista de Francos\, Rua do Lugarinho 6\, 425
 0-266 Porto\, Portugal
ORGANIZER;CN="Escola Bíblica":mailto:joseanne.cmbg.couto@gmail.com
END:VEVENT
BEGIN:VEVENT
UID:fc7ad4fa-3c3e-4df0-a1e4-bbade3ea6c67
SEQUENCE:0
DTSTAMP:20260426T042701
DTSTART:20240107T111500
DTEND:20240107T121500
RRULE:FREQ=WEEKLY;BYDAY=SU;BYMONTH=;BYSETPOS=
SUMMARY:Culto
LOCATION:Igreja Evangélica Baptista de Francos\, Rua do Lugarinho 6\, 425
 0-266 Porto\, Portugal
URL;VALUE=URI:https://us02web.zoom.us/j/83898415411?pwd=djVUbFQrRUJjQUN6Sz
 NUNnBISkZEUT09
END:VEVENT
BEGIN:VEVENT
UID:14764746-b73a-40f7-a867-e6ac2a8931ef
SEQUENCE:0
DTSTAMP:20260426T042701
DTSTART:20240107T100000
DTEND:20240107T110000
RRULE:FREQ=WEEKLY;BYDAY=SU;BYMONTH=;BYSETPOS=
SUMMARY:Escola Bíblica
LOCATION:Igreja Evangélica Baptista de Francos\, Rua do Lugarinho 6\, 425
 0-266 Porto\, Portugal
END:VEVENT
BEGIN:VEVENT
UID:9ccc7a5f-1d87-4ee4-b33d-4eea70794959
SEQUENCE:0
DTSTAMP:20260426T042701
DTSTART:20240107T210000
DTEND:20240107T220000
RRULE:FREQ=WEEKLY;BYDAY=WE;BYMONTH=;BYSETPOS=
SUMMARY:Culto de Oração e Estudo Bíblico
URL;VALUE=URI:https://us02web.zoom.us/j/83898415411?pwd=djVUbFQrRUJjQUN6Sz
 NUNnBISkZEUT09
END:VEVENT
BEGIN:VEVENT
UID:66398734-42e6-484f-acd1-4bb300121f39
SEQUENCE:0
DTSTAMP:20260426T042701
DTSTART:20240125T193000
DTEND:20240125T223000
RRULE:FREQ=MONTHLY;BYDAY=TH;BYMONTH=;BYSETPOS=-1
SUMMARY:UJ - Encontro ATOS
END:VEVENT
BEGIN:VEVENT
UID:be8a4c8b-6214-4951-aa77-7bea682a1800
SEQUENCE:0
DTSTAMP:20260426T042701
DTSTART:20240121T000000
DTEND:20240121T000000
RRULE:FREQ=MONTHLY;INTERVAL=2;BYDAY=SU;BYMONTH=1,3,5,7,9,11;BYSETPOS=3
SUMMARY:Culto dirigito pelos Jovens
LOCATION:Igreja Evangélica Baptista de Francos\, Rua do Lugarinho 6\, 425
 0-266 Porto\, Portugal
URL;VALUE=URI:https://us02web.zoom.us/j/83898415411?pwd=djVUbFQrRUJjQUN6Sz
 NUNnBISkZEUT09
END:VEVENT
BEGIN:VEVENT
UID:c65f9743-3358-4d79-812d-f86443f2798e
SEQUENCE:0
DTSTAMP:20260426T042701
DTSTART:20240211T000000
DTEND:20240211T000000
RRULE:FREQ=MONTHLY;INTERVAL=2;BYDAY=SU;BYMONTH=2,4,6,8,10,12;BYSETPOS=3
SUMMARY:UJ - Reunião de Jovens
END:VEVENT
END:VCALENDAR